BEGIN:VCALENDAR
VERSION:2.0
PRODID:-//NADI Taman Intan Jaya 1 - ECPv6.15.13.1//NONSGML v1.0//EN
CALSCALE:GREGORIAN
METHOD:PUBLISH
X-WR-CALNAME:NADI Taman Intan Jaya 1
X-ORIGINAL-URL:https://tmnintanjaya1.nadi.my
X-WR-CALDESC:Events for NADI Taman Intan Jaya 1
REFRESH-INTERVAL;VALUE=DURATION:PT1H
X-Robots-Tag:noindex
X-PUBLISHED-TTL:PT1H
BEGIN:VTIMEZONE
TZID:UTC
BEGIN:STANDARD
TZOFFSETFROM:+0000
TZOFFSETTO:+0000
TZNAME:UTC
DTSTART:19690101T000000
END:STANDARD
END:VTIMEZONE
BEGIN:VTIMEZONE
TZID:UTC
BEGIN:STANDARD
TZOFFSETFROM:+0000
TZOFFSETTO:+0000
TZNAME:UTC
DTSTART:20220101T000000
END:STANDARD
END:VTIMEZONE
BEGIN:VEVENT
DTSTART;TZID=UTC:20260419T215218
DTEND;TZID=UTC:20260418T163000
DTSTAMP:20260419T215218
CREATED:20260416T043658Z
LAST-MODIFIED:20260416T043658Z
UID:3559-0-1776529800@tmnintanjaya1.nadi.my
SUMMARY:WEBINAR BERKALA BAHASA MELAYU
DESCRIPTION:
URL:https://tmnintanjaya1.nadi.my/event/webinar-berkala-bahasa-melayu/
END:VEVENT
BEGIN:VEVENT
DTSTART;TZID=UTC:20231014T110000
DTEND;TZID=UTC:20231014T120000
DTSTAMP:20260419T215218
CREATED:20231006T121611Z
LAST-MODIFIED:20231006T121611Z
UID:2233-1697281200-1697284800@tmnintanjaya1.nadi.my
SUMMARY:MICROSOFT WORD
DESCRIPTION:
URL:https://tmnintanjaya1.nadi.my/event/microsoft-word-2/
CATEGORIES:DEFAULT
END:VEVENT
BEGIN:VEVENT
DTSTART;TZID=UTC:20231015T140000
DTEND;TZID=UTC:20231015T160000
DTSTAMP:20260419T215218
CREATED:20231006T122145Z
LAST-MODIFIED:20231006T122145Z
UID:2234-1697378400-1697385600@tmnintanjaya1.nadi.my
SUMMARY:AKTIVITI STEM : KERETA MINI SOLAR\, E-LEARNING : MATEMATIK
DESCRIPTION:
URL:https://tmnintanjaya1.nadi.my/event/aktiviti-stem-kereta-mini-solar-e-learning-matematik/
CATEGORIES:DEFAULT
END:VEVENT
BEGIN:VEVENT
DTSTART;TZID=UTC:20231020T150000
DTEND;TZID=UTC:20231020T160000
DTSTAMP:20260419T215218
CREATED:20231006T122439Z
LAST-MODIFIED:20231006T122439Z
UID:2235-1697814000-1697817600@tmnintanjaya1.nadi.my
SUMMARY:ASAS CANVA : POSTER
DESCRIPTION:
URL:https://tmnintanjaya1.nadi.my/event/asas-canva-poster/
CATEGORIES:DEFAULT
END:VEVENT
BEGIN:VEVENT
DTSTART;TZID=UTC:20231021T140000
DTEND;TZID=UTC:20231021T160000
DTSTAMP:20260419T215218
CREATED:20231006T122706Z
LAST-MODIFIED:20231006T122706Z
UID:2236-1697896800-1697904000@tmnintanjaya1.nadi.my
SUMMARY:AKTIVTI STEM : PIRAMID STRAW\, AKTIVTI MEMBUAT PENANDA BUKU
DESCRIPTION:
URL:https://tmnintanjaya1.nadi.my/event/aktivti-stem-piramid-straw-aktivti-membuat-penanda-buku/
CATEGORIES:DEFAULT
END:VEVENT
BEGIN:VEVENT
DTSTART;TZID=UTC:20231022T100000
DTEND;TZID=UTC:20231022T120000
DTSTAMP:20260419T215218
CREATED:20231006T122803Z
LAST-MODIFIED:20231006T122803Z
UID:2237-1697968800-1697976000@tmnintanjaya1.nadi.my
SUMMARY:BENGKEL IMEJ
DESCRIPTION:
URL:https://tmnintanjaya1.nadi.my/event/bengkel-imej/
CATEGORIES:DEFAULT
END:VEVENT
BEGIN:VEVENT
DTSTART;TZID=UTC:20231026T110000
DTEND;TZID=UTC:20231026T120000
DTSTAMP:20260419T215218
CREATED:20231006T122909Z
LAST-MODIFIED:20231006T122909Z
UID:2238-1698318000-1698321600@tmnintanjaya1.nadi.my
SUMMARY:ASAS SHOPEE (SELLER)
DESCRIPTION:
URL:https://tmnintanjaya1.nadi.my/event/asas-shopee-seller/
CATEGORIES:DEFAULT
END:VEVENT
BEGIN:VEVENT
DTSTART;TZID=UTC:20231027T110000
DTEND;TZID=UTC:20231027T120000
DTSTAMP:20260419T215218
CREATED:20231006T123031Z
LAST-MODIFIED:20231006T123031Z
UID:2239-1698404400-1698408000@tmnintanjaya1.nadi.my
SUMMARY:ASAS FACEBOOK PAGE
DESCRIPTION:
URL:https://tmnintanjaya1.nadi.my/event/asas-facebook-page/
CATEGORIES:DEFAULT
END:VEVENT
BEGIN:VEVENT
DTSTART;TZID=UTC:20231028T110000
DTEND;TZID=UTC:20231028T120000
DTSTAMP:20260419T215218
CREATED:20231006T123205Z
LAST-MODIFIED:20231006T123205Z
UID:2240-1698490800-1698494400@tmnintanjaya1.nadi.my
SUMMARY:MICROSOFT WORD\, TYPING GAMES
DESCRIPTION:
URL:https://tmnintanjaya1.nadi.my/event/microsoft-word-typing-games/
CATEGORIES:DEFAULT
END:VEVENT
BEGIN:VEVENT
DTSTART;TZID=UTC:20231028T140000
DTEND;TZID=UTC:20231028T160000
DTSTAMP:20260419T215218
CREATED:20231006T123325Z
LAST-MODIFIED:20231006T123325Z
UID:2241-1698501600-1698508800@tmnintanjaya1.nadi.my
SUMMARY:LUKISAN 3D
DESCRIPTION:
URL:https://tmnintanjaya1.nadi.my/event/lukisan-3d/
CATEGORIES:DEFAULT
END:VEVENT
BEGIN:VEVENT
DTSTART;TZID=UTC:20231029T110000
DTEND;TZID=UTC:20231029T120000
DTSTAMP:20260419T215218
CREATED:20231006T123442Z
LAST-MODIFIED:20231006T123442Z
UID:2242-1698577200-1698580800@tmnintanjaya1.nadi.my
SUMMARY:STEM : PAYUNG TERJUN\, E-LEARNING : ENGLISH
DESCRIPTION:
URL:https://tmnintanjaya1.nadi.my/event/stem-payung-terjun-e-learning-english/
CATEGORIES:DEFAULT
END:VEVENT
END:VCALENDAR