BEGIN:VCALENDAR
VERSION:2.0
PRODID:-//NADI Taman Intan Jaya 1 - ECPv6.15.13.1//NONSGML v1.0//EN
CALSCALE:GREGORIAN
METHOD:PUBLISH
X-WR-CALNAME:NADI Taman Intan Jaya 1
X-ORIGINAL-URL:https://tmnintanjaya1.nadi.my
X-WR-CALDESC:Events for NADI Taman Intan Jaya 1
REFRESH-INTERVAL;VALUE=DURATION:PT1H
X-Robots-Tag:noindex
X-PUBLISHED-TTL:PT1H
BEGIN:VTIMEZONE
TZID:UTC
BEGIN:STANDARD
TZOFFSETFROM:+0000
TZOFFSETTO:+0000
TZNAME:UTC
DTSTART:20230101T000000
END:STANDARD
END:VTIMEZONE
BEGIN:VEVENT
DTSTART;TZID=UTC:20240902T150000
DTEND;TZID=UTC:20240902T160000
DTSTAMP:20260420T023430
CREATED:20240830T105136Z
LAST-MODIFIED:20240830T105136Z
UID:2400-1725289200-1725292800@tmnintanjaya1.nadi.my
SUMMARY:PENULISAN RESUME
DESCRIPTION:
URL:https://tmnintanjaya1.nadi.my/event/penulisan-resume-4/
CATEGORIES:DEFAULT
END:VEVENT
BEGIN:VEVENT
DTSTART;TZID=UTC:20240904T150000
DTEND;TZID=UTC:20240904T160000
DTSTAMP:20260420T023430
CREATED:20240830T165321Z
LAST-MODIFIED:20240830T165321Z
UID:2405-1725462000-1725465600@tmnintanjaya1.nadi.my
SUMMARY:PENGENALAN KEPADA EXCEL
DESCRIPTION:
URL:https://tmnintanjaya1.nadi.my/event/pengenalan-kepada-excel-2/
CATEGORIES:DEFAULT
END:VEVENT
BEGIN:VEVENT
DTSTART;TZID=UTC:20240907T150000
DTEND;TZID=UTC:20240907T160000
DTSTAMP:20260420T023430
CREATED:20240830T105410Z
LAST-MODIFIED:20240830T105410Z
UID:2402-1725721200-1725724800@tmnintanjaya1.nadi.my
SUMMARY:KUIZ MATEMATIK
DESCRIPTION:
URL:https://tmnintanjaya1.nadi.my/event/kuiz-matematik-3/
CATEGORIES:DEFAULT
END:VEVENT
BEGIN:VEVENT
DTSTART;TZID=UTC:20240908T150000
DTEND;TZID=UTC:20240908T160000
DTSTAMP:20260420T023430
CREATED:20240830T105659Z
LAST-MODIFIED:20240830T105659Z
UID:2403-1725807600-1725811200@tmnintanjaya1.nadi.my
SUMMARY:KUIZ KAHOOT SAINS
DESCRIPTION:
URL:https://tmnintanjaya1.nadi.my/event/kuiz-kahoot-sains/
CATEGORIES:DEFAULT
END:VEVENT
BEGIN:VEVENT
DTSTART;TZID=UTC:20240909T150000
DTEND;TZID=UTC:20240909T160000
DTSTAMP:20260420T023430
CREATED:20240830T110058Z
LAST-MODIFIED:20240830T110058Z
UID:2404-1725894000-1725897600@tmnintanjaya1.nadi.my
SUMMARY:PENGENALAN KEPADA PUBLISHER
DESCRIPTION:
URL:https://tmnintanjaya1.nadi.my/event/pengenalan-kepada-publisher/
CATEGORIES:DEFAULT
END:VEVENT
BEGIN:VEVENT
DTSTART;TZID=UTC:20240911T150000
DTEND;TZID=UTC:20240911T160000
DTSTAMP:20260420T023430
CREATED:20240830T165357Z
LAST-MODIFIED:20240830T165357Z
UID:2406-1726066800-1726070400@tmnintanjaya1.nadi.my
SUMMARY:GOOGLE
DESCRIPTION:
URL:https://tmnintanjaya1.nadi.my/event/google/
CATEGORIES:DEFAULT
END:VEVENT
BEGIN:VEVENT
DTSTART;TZID=UTC:20240914T150000
DTEND;TZID=UTC:20240914T160000
DTSTAMP:20260420T023430
CREATED:20240830T165432Z
LAST-MODIFIED:20240830T165432Z
UID:2407-1726326000-1726329600@tmnintanjaya1.nadi.my
SUMMARY:LATIHAN MENAIP
DESCRIPTION:
URL:https://tmnintanjaya1.nadi.my/event/latihan-menaip-7/
CATEGORIES:DEFAULT
END:VEVENT
BEGIN:VEVENT
DTSTART;TZID=UTC:20240915T150000
DTEND;TZID=UTC:20240915T160000
DTSTAMP:20260420T023430
CREATED:20240830T165514Z
LAST-MODIFIED:20240830T165514Z
UID:2408-1726412400-1726416000@tmnintanjaya1.nadi.my
SUMMARY:STEM: CODING GAME
DESCRIPTION:
URL:https://tmnintanjaya1.nadi.my/event/stem-coding-game/
CATEGORIES:DEFAULT
END:VEVENT
BEGIN:VEVENT
DTSTART;TZID=UTC:20240920T150000
DTEND;TZID=UTC:20240920T160000
DTSTAMP:20260420T023430
CREATED:20240830T165746Z
LAST-MODIFIED:20240830T165746Z
UID:2409-1726844400-1726848000@tmnintanjaya1.nadi.my
SUMMARY:TAKLIMAT PENDAFTARAN SSM
DESCRIPTION:
URL:https://tmnintanjaya1.nadi.my/event/taklimat-pendaftaran-ssm/
CATEGORIES:DEFAULT
END:VEVENT
BEGIN:VEVENT
DTSTART;TZID=UTC:20240921T150000
DTEND;TZID=UTC:20240921T160000
DTSTAMP:20260420T023430
CREATED:20240830T165818Z
LAST-MODIFIED:20240830T165818Z
UID:2410-1726930800-1726934400@tmnintanjaya1.nadi.my
SUMMARY:KEYCHAIN HARI MALAYSIA
DESCRIPTION:
URL:https://tmnintanjaya1.nadi.my/event/keychain-hari-malaysia/
CATEGORIES:DEFAULT
END:VEVENT
BEGIN:VEVENT
DTSTART;TZID=UTC:20240922T150000
DTEND;TZID=UTC:20240922T160000
DTSTAMP:20260420T023430
CREATED:20240830T165856Z
LAST-MODIFIED:20240830T165856Z
UID:2411-1727017200-1727020800@tmnintanjaya1.nadi.my
SUMMARY:STEM: BOOMERANG
DESCRIPTION:
URL:https://tmnintanjaya1.nadi.my/event/stem-boomerang-2/
CATEGORIES:DEFAULT
END:VEVENT
BEGIN:VEVENT
DTSTART;TZID=UTC:20240927T150000
DTEND;TZID=UTC:20240927T160000
DTSTAMP:20260420T023430
CREATED:20240830T165959Z
LAST-MODIFIED:20240830T165959Z
UID:2412-1727449200-1727452800@tmnintanjaya1.nadi.my
SUMMARY:CANVA: REKAAN POSTER PERNIAGAAN
DESCRIPTION:
URL:https://tmnintanjaya1.nadi.my/event/canva-rekaan-poster-perniagaan/
CATEGORIES:DEFAULT
END:VEVENT
BEGIN:VEVENT
DTSTART;TZID=UTC:20240928T150000
DTEND;TZID=UTC:20240928T160000
DTSTAMP:20260420T023430
CREATED:20240830T170045Z
LAST-MODIFIED:20240830T170045Z
UID:2413-1727535600-1727539200@tmnintanjaya1.nadi.my
SUMMARY:STEM: STRUKTUR BINAAN
DESCRIPTION:
URL:https://tmnintanjaya1.nadi.my/event/stem-struktur-binaan/
CATEGORIES:DEFAULT
END:VEVENT
BEGIN:VEVENT
DTSTART;TZID=UTC:20240929T150000
DTEND;TZID=UTC:20240929T160000
DTSTAMP:20260420T023430
CREATED:20240830T170117Z
LAST-MODIFIED:20240830T170117Z
UID:2414-1727622000-1727625600@tmnintanjaya1.nadi.my
SUMMARY:ABCYA
DESCRIPTION:
URL:https://tmnintanjaya1.nadi.my/event/abcya/
CATEGORIES:DEFAULT
END:VEVENT
END:VCALENDAR