BEGIN:VCALENDAR
VERSION:2.0
PRODID:-//NADI Taman Intan Jaya 1 - ECPv6.15.13.1//NONSGML v1.0//EN
CALSCALE:GREGORIAN
METHOD:PUBLISH
X-ORIGINAL-URL:https://tmnintanjaya1.nadi.my
X-WR-CALDESC:Events for NADI Taman Intan Jaya 1
REFRESH-INTERVAL;VALUE=DURATION:PT1H
X-Robots-Tag:noindex
X-PUBLISHED-TTL:PT1H
BEGIN:VTIMEZONE
TZID:UTC
BEGIN:STANDARD
TZOFFSETFROM:+0000
TZOFFSETTO:+0000
TZNAME:UTC
DTSTART:19690101T000000
END:STANDARD
END:VTIMEZONE
BEGIN:VTIMEZONE
TZID:UTC
BEGIN:STANDARD
TZOFFSETFROM:+0000
TZOFFSETTO:+0000
TZNAME:UTC
DTSTART:20220101T000000
END:STANDARD
END:VTIMEZONE
BEGIN:VEVENT
DTSTART;TZID=UTC:20260419T232311
DTEND;TZID=UTC:20260418T163000
DTSTAMP:20260419T232311
CREATED:20260416T043658Z
LAST-MODIFIED:20260416T043658Z
UID:3559-0-1776529800@tmnintanjaya1.nadi.my
SUMMARY:WEBINAR BERKALA BAHASA MELAYU
DESCRIPTION:
URL:https://tmnintanjaya1.nadi.my/event/webinar-berkala-bahasa-melayu/
END:VEVENT
BEGIN:VEVENT
DTSTART;TZID=UTC:20230913T103000
DTEND;TZID=UTC:20230913T120000
DTSTAMP:20260419T232311
CREATED:20230907T163859Z
LAST-MODIFIED:20230907T163859Z
UID:2227-1694601000-1694606400@tmnintanjaya1.nadi.my
SUMMARY:BUSINESS ETIQUETTE AND PERSONAL GROOMING
DESCRIPTION:
URL:https://tmnintanjaya1.nadi.my/event/business-etiquette-and-personal-grooming/
LOCATION:Pusat Ekonomi Digital Taman Intan Jaya 1\, Pusat Ekonomi Digital Taman Intan Jaya 1
CATEGORIES:DEFAULT
END:VEVENT
END:VCALENDAR